BEGIN:VCALENDAR
VERSION:2.0
PRODID:-//Tukios.com/
BEGIN:VEVENT
UID:d67c8130-685f-420a-bfbb-328285ffce22@www.hartsonfuneralhome.com
DTSTAMP:20260420T201003Z
DTSTART:20260421T170000Z
DTEND:20260421T173000Z
SUMMARY:Funeral Service
DESCRIPTION:
URL:https://www.hartsonfuneralhome.com/obituaries/deloris-evans
LOCATION: 11111 West Janesville Road  Hales Corners WI 53130
GEO:42.9366761;-88.0524106
END:VEVENT
END:VCALENDAR