BEGIN:VCALENDAR
VERSION:2.0
PRODID:-//Tukios.com/
BEGIN:VEVENT
UID:35ce22d5-946c-4903-8ded-37b4a80cefce@www.hartsonfuneralhome.com
DTSTAMP:20260420T200840Z
DTSTART:20260421T153000Z
DTEND:20260421T170000Z
SUMMARY:Visitation
DESCRIPTION:
URL:https://www.hartsonfuneralhome.com/obituaries/deloris-evans
LOCATION: 11111 West Janesville Road  Hales Corners WI 53130
GEO:42.9366761;-88.0524106
END:VEVENT
END:VCALENDAR