BEGIN:VCALENDAR
VERSION:2.0
PRODID:-//Tukios.com/
BEGIN:VEVENT
UID:7b788a05-c0e1-4057-ac6f-8a364e6c318a@www.hartsonfuneralhome.com
DTSTAMP:20260423T183744Z
DTSTART:20260508T160000Z
DTEND:20260508T170000Z
SUMMARY:Funeral Mass
DESCRIPTION:
URL:https://www.hartsonfuneralhome.com/obituaries/glenn-kin
LOCATION:Our Lady of Lourdes 3722 South 58th Street  Milwaukee WI 53220
GEO:42.9768538;-87.9860761
END:VEVENT
END:VCALENDAR