BEGIN:VCALENDAR
VERSION:2.0
PRODID:-//Tukios.com/
BEGIN:VEVENT
UID:dbe63e0d-de29-4630-a79e-aaf7855364e2@www.hartsonfuneralhome.com
DTSTAMP:20260423T183513Z
DTSTART:20260508T150000Z
DTEND:20260508T160000Z
SUMMARY:Visitation
DESCRIPTION:
URL:https://www.hartsonfuneralhome.com/obituaries/glenn-kin
LOCATION:Our Lady of Lourdes 3722 South 58th Street  Milwaukee WI 53220
GEO:42.9768538;-87.9860761
END:VEVENT
END:VCALENDAR